BEGIN:VCALENDAR
VERSION:2.0
PRODID:DPCALENDAR
CALSCALE:GREGORIAN
BEGIN:VTIMEZONE
TZID:Europe/Amsterdam
BEGIN:STANDARD
DTSTART:20251026T010000
TZOFFSETFROM:+0200
TZOFFSETTO:+0100
TZNAME:CET
END:STANDARD
BEGIN:STANDARD
DTSTART:20261025T010000
TZOFFSETFROM:+0200
TZOFFSETTO:+0100
TZNAME:CET
END:STANDARD
BEGIN:DAYLIGHT
DTSTART:20260329T010000
TZOFFSETFROM:+0100
TZOFFSETTO:+0200
TZNAME:CEST
END:DAYLIGHT
END:VTIMEZONE
X-WR-TIMEZONE:Europe/Amsterdam
BEGIN:VEVENT
DTSTART;TZID=Europe/Amsterdam:20171028T180000
DTEND;TZID=Europe/Amsterdam:20171028T230000
UID:462D03EF-A5FA-4889-94CE-3639842733D7
SUMMARY:Nederlandse Brassband Kampioenschappen
CREATED:20170528T193103Z
DTSTAMP:20170528T193103Z
URL:https://brassbandrijnmond.nl/index.php/nl/agenda/nederlandse-brassband-kampioenschappen
DESCRIPTION:Brassband Rijnmond neemt elk jaar deel aan de Nederlandse Brassband Kampioenschappen in Utrecht.\N 
X-ALT-DESC;FMTTYPE=text/html:<p>Brassband Rijnmond neemt elk jaar deel aan de Nederlandse Brassband Kampioenschappen in Utrecht.</p><p>&nbsp;</p>
LAST-MODIFIED:20170529T191332Z
SEQUENCE:85349
LOCATION:Vredenburgkade 11\, Utrecht
GEO:52.09253700;5.11304810
X-LOCATION-DISPLAYNAME:TivoliVredenburg
X-ACCESS:1
X-HITS:619
X-COLOR:85b827
X-SHOW-END-TIME:1
END:VEVENT
BEGIN:VEVENT
DTSTART;TZID=Europe/Amsterdam:20180421T180000
DTEND;TZID=Europe/Amsterdam:20180421T230000
UID:13B1BEC9-7BFC-4A29-B25A-B765172D9E01
SUMMARY:Vlaams Open Brassband Kampioenschappen
CREATED:20180211T201223Z
DTSTAMP:20180211T201223Z
URL:https://brassbandrijnmond.nl/index.php/nl/agenda/vlaams-open-brassband-kampioenschappen
X-ACCESS:1
X-HITS:469
X-COLOR:85b827
X-SHOW-END-TIME:1
END:VEVENT
BEGIN:VEVENT
DTSTART;TZID=Europe/Amsterdam:20180609T180000
DTEND;TZID=Europe/Amsterdam:20180609T230000
UID:73429211-F327-4815-99BE-9A27E92E9E7F
SUMMARY:Dutch Open Brassband Championships
CREATED:20180211T201339Z
DTSTAMP:20180211T201339Z
URL:https://brassbandrijnmond.nl/index.php/nl/agenda/dutch-open-brassband-championships
X-ACCESS:1
X-HITS:654
X-COLOR:85b827
X-SHOW-END-TIME:1
END:VEVENT
BEGIN:VEVENT
DTSTART;TZID=Europe/Amsterdam:20181027T180000
DTEND;TZID=Europe/Amsterdam:20181027T230000
UID:7540B1AC-87E3-47F5-9E50-2140073AF008
SUMMARY:NBK 2017
CREATED:20180801T144525Z
DTSTAMP:20180801T144525Z
URL:https://brassbandrijnmond.nl/index.php/nl/agenda/nbk-2017
LOCATION:Vredenburgkade 11\, Utrecht
GEO:52.09253700;5.11304810
X-LOCATION-DISPLAYNAME:TivoliVredenburg
X-ACCESS:1
X-HITS:407
X-COLOR:85b827
X-SHOW-END-TIME:1
END:VEVENT
BEGIN:VEVENT
DTSTART;TZID=Europe/Amsterdam:20190608T180000
DTEND;TZID=Europe/Amsterdam:20190608T230000
UID:5D92FD29-9356-4CDA-835F-C7E61C80D36E
SUMMARY:Dutch Open Brassband Championship
CREATED:20181220T220159Z
DTSTAMP:20181220T220159Z
URL:https://brassbandrijnmond.nl/index.php/nl/agenda/dutch-open-brassband-championship
LOCATION:Laweiplein  1\, 9203 KL Drachten
GEO:53.10297610;6.09776590
X-LOCATION-DISPLAYNAME:De Lawei
X-ACCESS:1
X-HITS:466
X-COLOR:85b827
X-SHOW-END-TIME:1
END:VEVENT
BEGIN:VEVENT
DTSTART;TZID=Europe/Amsterdam:20191026T180000
DTEND;TZID=Europe/Amsterdam:20191026T230000
UID:1AB61DB1-E045-444A-9C4F-811513190A5F
SUMMARY:Nederlandse Brassband Kampioenschappen
CREATED:20190604T204239Z
DTSTAMP:20190604T204239Z
URL:https://brassbandrijnmond.nl/index.php/nl/agenda/nederlandse-brassband-kampioenschappen-2
LOCATION:Vredenburgkade 11\, Utrecht
GEO:52.09253700;5.11304810
X-LOCATION-DISPLAYNAME:TivoliVredenburg
X-ACCESS:1
X-HITS:356
X-COLOR:85b827
X-SHOW-END-TIME:1
END:VEVENT
BEGIN:VEVENT
DTSTART;TZID=Europe/Amsterdam:20211030T180000
DTEND;TZID=Europe/Amsterdam:20211030T230000
UID:2503DE3C-CAE5-42C6-AC46-4313B3077037
SUMMARY:NBK 2021
CREATED:20210830T195527Z
DTSTAMP:20210830T195527Z
URL:https://brassbandrijnmond.nl/index.php/nl/agenda/nbk-2021
LAST-MODIFIED:20211024T185554Z
SEQUENCE:4748427
LOCATION:Vredenburgkade 11\, Utrecht
GEO:52.09253700;5.11304810
X-LOCATION-DISPLAYNAME:TivoliVredenburg
X-ACCESS:1
X-HITS:0
X-COLOR:85b827
X-SHOW-END-TIME:1
END:VEVENT
BEGIN:VEVENT
DTSTART;TZID=Europe/Amsterdam:20220611T160000
DTEND;TZID=Europe/Amsterdam:20220611T230000
UID:6BA283CA-D8DA-4D81-904D-316EF391946B
SUMMARY:Dutch Open Brassband Championships
CREATED:20220215T205937Z
DTSTAMP:20220215T205937Z
URL:https://dobc.eu/nl/home-2
LOCATION:Trompsingel 27\, 9724DA Groningen\, Groningen
GEO:53.21423930;6.57592850
X-LOCATION-DISPLAYNAME:Oosterpoort - Groningen
X-ACCESS:1
X-HITS:0
X-COLOR:85b827
X-SHOW-END-TIME:1
END:VEVENT
BEGIN:VEVENT
DTSTART;TZID=Europe/Amsterdam:20231104T180000
DTEND;TZID=Europe/Amsterdam:20231104T230000
UID:CD9861CC-B293-4A6B-BA1A-6C57851BAB2B
SUMMARY:Nederlandse Brassband Kampioenschappen
CREATED:20230421T143631Z
DTSTAMP:20230421T143631Z
URL:https://brassbandrijnmond.nl/index.php/nl/agenda/nbk2023
LOCATION:Vredenburgkade 11\, Utrecht
GEO:52.09253700;5.11304810
X-LOCATION-DISPLAYNAME:TivoliVredenburg
X-ACCESS:1
X-HITS:0
X-COLOR:85b827
X-SHOW-END-TIME:1
END:VEVENT
BEGIN:VEVENT
DTSTART;TZID=Europe/Amsterdam:20240608T180000
DTEND;TZID=Europe/Amsterdam:20240608T223000
UID:D9249A21-CCFD-4F31-BAF2-B7BE24AD1609
SUMMARY:Dutch Open Brassband Championships
CREATED:20231223T192443Z
DTSTAMP:20231223T192443Z
URL:https://brassbandrijnmond.nl/index.php/nl/agenda/dutch-open-brassband-championships-4
LOCATION:Warmoesstraat 46\, 9724 JM Groningen\, Groningen\, Nederland
GEO:53.21153230;6.57747450
X-LOCATION-DISPLAYNAME:Oosterpoort
X-ACCESS:1
X-HITS:0
X-COLOR:85b827
X-SHOW-END-TIME:1
END:VEVENT
BEGIN:VEVENT
DTSTART;TZID=Europe/Amsterdam:20241026T180000
DTEND;TZID=Europe/Amsterdam:20241026T230000
UID:05257C6E-4C21-4A4E-BDCC-993CA53FEC66
SUMMARY:Nederlandse Brassband Kampioenschappen
CREATED:20240223T191623Z
DTSTAMP:20240223T191623Z
URL:https://brassbandrijnmond.nl/index.php/nl/agenda/nederlandse-brassband-kampioenschappen-5
X-ACCESS:1
X-HITS:0
X-COLOR:85b827
X-SHOW-END-TIME:1
END:VEVENT
BEGIN:VEVENT
DTSTART;TZID=Europe/Amsterdam:20250509T180000
DTEND;TZID=Europe/Amsterdam:20250509T230000
UID:DB49F707-961F-4A7E-98B5-AA703BCF324D
SUMMARY:Europese Brassband Kampioenschappen
CREATED:20250103T183226Z
DTSTAMP:20250103T183226Z
URL:https://brassbandrijnmond.nl/index.php/nl/agenda/europese-brassband-kampioenschappen
LAST-MODIFIED:20250103T183226Z
SEQUENCE:0
LOCATION:Torget 7\, 4006 Stavanger\, Rogaland\, Noorwegen
GEO:58.96996750;5.73181010
X-LOCATION-DISPLAYNAME:Stavanger
X-ACCESS:1
X-HITS:0
X-COLOR:85b827
X-SHOW-END-TIME:1
END:VEVENT
BEGIN:VEVENT
DTSTART;TZID=Europe/Amsterdam:20250510T090000
DTEND;TZID=Europe/Amsterdam:20250510T230000
UID:074BA365-D450-4295-B58A-CEEC04E8BA0A
SUMMARY:Europese Brassband Kampioenschappen
CREATED:20250103T183226Z
DTSTAMP:20250103T183226Z
URL:https://brassbandrijnmond.nl/index.php/nl/agenda/europese-brassband-kampioenschappen-2
LAST-MODIFIED:20250103T183348Z
SEQUENCE:82
LOCATION:Torget 7\, 4006 Stavanger\, Rogaland\, Noorwegen
GEO:58.96996750;5.73181010
X-LOCATION-DISPLAYNAME:Stavanger
X-ACCESS:1
X-HITS:0
X-COLOR:85b827
X-SHOW-END-TIME:1
END:VEVENT
BEGIN:VEVENT
DTSTART;TZID=Europe/Amsterdam:20251018T150000
DTEND;TZID=Europe/Amsterdam:20251018T230000
UID:CD9EE767-8902-4DF5-96A8-86E1D40BEBA7
SUMMARY:Deelname German Open
CREATED:20250923T185115Z
DTSTAMP:20250923T185115Z
URL:https://brassbandrijnmond.nl/index.php/nl/agenda/deelname-german-open
LAST-MODIFIED:20250923T185238Z
SEQUENCE:83
X-ACCESS:1
X-HITS:0
X-COLOR:85b827
X-SHOW-END-TIME:1
END:VEVENT
BEGIN:VEVENT
DTSTART;TZID=Europe/Amsterdam:20251101T180000
DTEND;TZID=Europe/Amsterdam:20251101T230000
UID:02334233-F67F-413F-8FC2-EE7FFD062B7F
SUMMARY:Nederlandse Brassband Kampioenschappen 2025
CREATED:20250103T184146Z
DTSTAMP:20250103T184146Z
URL:https://brassbandrijnmond.nl/index.php/nl/agenda/nederlandse-brassband-kampioenschappen-2025
LAST-MODIFIED:20250103T184146Z
SEQUENCE:0
X-ACCESS:1
X-HITS:0
X-COLOR:85b827
X-SHOW-END-TIME:1
END:VEVENT
BEGIN:VEVENT
DTSTART;TZID=Europe/Amsterdam:20251122T183000
DTEND;TZID=Europe/Amsterdam:20251122T203000
UID:E074F728-6DE0-4709-98CA-135D598B7EE0
SUMMARY:Bondsconcours Zutphen
CREATED:20250923T185522Z
DTSTAMP:20250923T185522Z
URL:https://brassbandrijnmond.nl/index.php/nl/agenda/bondsconcours-zutphen
LAST-MODIFIED:20250923T185522Z
SEQUENCE:0
X-ACCESS:1
X-HITS:0
X-COLOR:85b827
X-SHOW-END-TIME:1
END:VEVENT
BEGIN:VEVENT
DTSTART;TZID=Europe/Amsterdam:20260418T180000
DTEND;TZID=Europe/Amsterdam:20260418T230000
UID:76026DD1-BD89-403C-BCC6-53946BCB79B8
SUMMARY:Vlaams Open Brassband Kampioenschappen
CREATED:20260107T212320Z
DTSTAMP:20260107T212320Z
URL:https://brassbandrijnmond.nl/index.php/nl/agenda/vlaams-open-brassband-kampioenschappen-2
LAST-MODIFIED:20260107T212320Z
SEQUENCE:0
X-ACCESS:1
X-HITS:0
X-COLOR:85b827
X-SHOW-END-TIME:1
END:VEVENT
END:VCALENDAR